BEGIN:VCALENDAR
METHOD:PUBLISH
PRODID:https://www.sintef.no
VERSION:2.0
BEGIN:VEVENT
DESCRIPTION:
DTEND:20200513T110000
DTSTAMP:20260423T160926Z
DTSTART:20200513T100000
LOCATION:
SEQUENCE:0
SUMMARY:Pre-ACT webinar #4
UID:1b0ad715-427e-4c55-b5cb-031b277ffe40
END:VEVENT
END:VCALENDAR
