BEGIN:VCALENDAR
METHOD:PUBLISH
PRODID:https://www.sintef.no
VERSION:2.0
BEGIN:VEVENT
DESCRIPTION:
DTEND:20200331T110000
DTSTAMP:20260423T131127Z
DTSTART:20200331T100000
LOCATION:
SEQUENCE:0
SUMMARY:Pre-ACT webinar #2
UID:53325519-4798-4e2c-b6a9-9287d14affb7
END:VEVENT
END:VCALENDAR
