BEGIN:VCALENDAR
METHOD:PUBLISH
PRODID:https://www.sintef.no
VERSION:2.0
BEGIN:VEVENT
DESCRIPTION:Data Week 2026 brings together leading stakeholders in data an
 d AI in Oslo on May 5–6 to explore how data-driven value creation can emp
 ower both industry and society.
DTEND:20260506T160000
DTSTAMP:20260421T083750Z
DTSTART:20260505T080000
LOCATION:Meet Ullevaal\, Sognsveien 77C\, 0855 Oslo
SEQUENCE:0
SUMMARY:Data Week 2026
UID:43221de3-93fb-4036-9948-d5c287f72d20
END:VEVENT
END:VCALENDAR
