BEGIN:VCALENDAR
METHOD:PUBLISH
PRODID:https://www.sintef.no
VERSION:2.0
BEGIN:VEVENT
DESCRIPTION:The INDEE3 project welcomes you to its one day seminar at ACRE
 X India 2026.
DTEND:20260313T130000
DTSTAMP:20260421T090123Z
DTSTART:20260313T100000
LOCATION:ACREX India 2026\, BEC Mumbai\, Bombay Exhibition Centre\, NESCO\
 , Goregaon\, Mumbai\, Maharashtra 400063
SEQUENCE:0
SUMMARY:Sustainable Cooling and Heating - INDEE3 Seminar at ACREX India 20
 26
UID:5f649074-7cd8-491d-9358-2b21e0f5236c
END:VEVENT
END:VCALENDAR
