BEGIN:VCALENDAR
METHOD:PUBLISH
PRODID:https://www.sintef.no
VERSION:2.0
BEGIN:VEVENT
DESCRIPTION:Registration deadline: 08.03.2026\n\nHow can robotics\, autono
 mous systems and artificial intelligence contribute to increased resilien
 ce in critical infrastructure? This workshop brings together key stakehol
 ders to identify common challenges\, share experiences and develop concre
 te collaboration and project opportunities in protection\, inspection and
  maintenance.
DTEND:20260409T160000
DTSTAMP:20260419T142249Z
DTSTART:20260409T093000
LOCATION:Radisson Blu Airport Hotel\, Oslo Gardermoen\, Hotellvegen\, 2060
  Gardermoen
SEQUENCE:0
SUMMARY:Robotics\, AI\, and Critical Infrastructure – Synergies Across Pro
 tection and Inspection & Maintenance
UID:14a1dafc-f71a-4e0f-aeed-ddcbe0da02b4
END:VEVENT
END:VCALENDAR
