BEGIN:VCALENDAR
METHOD:PUBLISH
PRODID:https://www.sintef.no
VERSION:2.0
BEGIN:VEVENT
DESCRIPTION:The Marine Minerals Webinar Series is exploring key insights a
 nd priority questions for marine mineral resource. In this second session
 \, we will explore Seafloor Massive Sulphides - from the geological proce
 sses that form these deposits to the innovative methods required to extra
 ct them\, and the strategies necessary for environmental impact and manag
 ement.
DTEND:20260508T150000
DTSTAMP:20260421T140904Z
DTSTART:20260508T140000
LOCATION:
SEQUENCE:0
SUMMARY:Marine Minerals Webinar Series. Session 2: Seafloor Massive  Sulph
 ides
UID:0812868d-af72-4120-8e67-af72bba503f8
END:VEVENT
END:VCALENDAR
