BEGIN:VCALENDAR
METHOD:PUBLISH
PRODID:https://www.sintef.no
VERSION:2.0
BEGIN:VEVENT
DESCRIPTION:European Robotics Forum takes place in Stavanger\, Norway. Joi
 n us to learn about the latest innovations and developments in robotics.
DTEND:20260327T160000
DTSTAMP:20260424T190710Z
DTSTART:20260323T080000
LOCATION:Stavanger Forum\, Gunnar Warebergs gate 13\, 4021 Stavanger
SEQUENCE:0
SUMMARY:European Robotics Forum 2026
UID:1f0f0d43-8d1a-4431-bf64-9492a097512c
END:VEVENT
END:VCALENDAR
