BEGIN:VCALENDAR
METHOD:PUBLISH
PRODID:https://www.sintef.no
VERSION:2.0
BEGIN:VEVENT
DESCRIPTION:Registration deadline: 01.11.2025\n\nThe seminar will include 
 presentations from NTNU\, UiO\, SINTEF\, and industry representatives\, w
 ith a focus on recent research and collaboration in hydrometallurgy and a
 queous process technology.
DTEND:20251112T153000
DTSTAMP:20260421T203928Z
DTSTART:20251112T093000
LOCATION:Thon Hotel Vika Atrium\, Munkedamsveien 45\, 0250 Oslo
SEQUENCE:0
SUMMARY:Welcome to the annual HyProS seminar
UID:81d5653e-9f85-474d-8034-89de16118507
END:VEVENT
END:VCALENDAR
