BEGIN:VCALENDAR
METHOD:PUBLISH
PRODID:https://www.sintef.no
VERSION:2.0
BEGIN:VEVENT
DESCRIPTION:Registration deadline: 16.05.2025\n\nWelcome to Nordic Polymer
  Days in Trondheim!
DTEND:20250613T130000
DTSTAMP:20260422T084116Z
DTSTART:20250611T120000
LOCATION:Norwegian University of Science and Technology in Trondheim\, Nor
 way\, O. S. Bragstads Plass\, 7034 Trondheim\, Norway
SEQUENCE:0
SUMMARY:Nordic Polymer Days 2025
UID:b112a3f6-db1d-490a-a6aa-e4382099d3dc
END:VEVENT
END:VCALENDAR
