BEGIN:VCALENDAR
METHOD:PUBLISH
PRODID:https://www.sintef.no
VERSION:2.0
BEGIN:VEVENT
DESCRIPTION:Registration deadline: 20.11.2025\n\nThe conference aims to sp
 read and share knowledge and solutions from European projects within the 
 EU’s mission Mission Restore our Ocean and Waters by 2030\, as well as ot
 her relevant Horizon Europe projects. It will explore how these can be ap
 plied in Norway\, both by businesses and by local and national stakeholde
 rs.
DTEND:20251204T170000
DTSTAMP:20260424T111234Z
DTSTART:20251203T180000
LOCATION:Radisson Blu Royal Garden Hotel Trondheim\, Kjøpmannsgata 73\, 70
 10 Trondheim
SEQUENCE:0
SUMMARY:Healthy oceans and waters by 2030
UID:319b5d83-733d-465f-b5a1-f7f678e6aa80
END:VEVENT
END:VCALENDAR
