BEGIN:VCALENDAR
METHOD:PUBLISH
PRODID:https://www.sintef.no
VERSION:2.0
BEGIN:VEVENT
DESCRIPTION:This COP30 event presents real-world innovations that enable e
 mission cuts and energy efficiency improvements in hard-to-abate sectors.
DTEND:20251118T200000
DTSTAMP:20260420T084429Z
DTSTART:20251118T183000
LOCATION:COP 30 - Side Event Room 9 (Blue Zone)
SEQUENCE:0
SUMMARY:COP30: Hard-to-abate industries - cutting emissions and improving 
 energy efficiency at the same time?
UID:d34b676f-28d2-46a0-8ec2-d8eb2852ff4b
END:VEVENT
END:VCALENDAR
