BEGIN:VCALENDAR
METHOD:PUBLISH
PRODID:https://www.sintef.no
VERSION:2.0
BEGIN:VEVENT
DESCRIPTION:Heating demands in the Norwegian industry are still to a large
  degree covered via fossil fuel sources\, such as natural gas or oil\, or
  using inefficient electric heaters and boilers.
DTEND:20240410T123000
DTSTAMP:20260423T000412Z
DTSTART:20240410T113000
LOCATION:Webinar
SEQUENCE:0
SUMMARY:Webinar: Evaluation of turbo compressor performance for a water ba
 sed HTHP to be utilized in solar assisted heat supply
UID:fa11fe15-219e-476c-8558-1bfac65e6cb0
END:VEVENT
END:VCALENDAR
