BEGIN:VCALENDAR
METHOD:PUBLISH
PRODID:https://www.sintef.no
VERSION:2.0
BEGIN:VEVENT
DESCRIPTION:Registration deadline: 06.03.2024\n\nWelcome to the forthcomin
 g SWIPA conference in Trondheim.
DTEND:20230314T133000
DTSTAMP:20260425T175352Z
DTSTART:20240313T113000
LOCATION:Radisson Blu Royal Garden Hotel\, Trondheim\, Norway\, Kjøpmannsg
 ata 73\, 7010 Trondheim
SEQUENCE:0
SUMMARY:SWIPA Annual Conference 2024
UID:91dcf6ac-44a6-4945-a8fa-3988745939b7
END:VEVENT
END:VCALENDAR
