BEGIN:VCALENDAR
METHOD:PUBLISH
PRODID:https://www.sintef.no
VERSION:2.0
BEGIN:VEVENT
DESCRIPTION:We explore fostering equitable research and funding strategies
  between Norway and low- and middle-income countries (LMICs) to ensure a 
 sustainable energy future.
DTEND:20241118T130000
DTSTAMP:20260423T213653Z
DTSTART:20241118T113000
LOCATION:Blue zone\, Side event 2\, COP29\, Baku\, Azerbaijan
SEQUENCE:0
SUMMARY:COP29: Equitable South-North partnerships in sustainable energy re
 search\, innovation\, and higher education
UID:25a70e27-74d4-42a3-99e6-7c6dacb93da6
END:VEVENT
END:VCALENDAR
