BEGIN:VCALENDAR
METHOD:PUBLISH
PRODID:https://www.sintef.no
VERSION:2.0
BEGIN:VEVENT
DESCRIPTION:Join the workshop to initiate collaborations and learn opportu
 nities for GenAI in combination with robotics\, data and other AI technol
 ogies in inspection and maintenance.
DTEND;VALUE=DATE:20241105
DTSTAMP:20260423T153317Z
DTSTART;VALUE=DATE:20241104
LOCATION:Evoluon\, Eindhoven\, The Netherlands\, Noord Brabantlaan 1a\, 56
 52 LA Eindhoven\, The Netherlands
SEQUENCE:0
SUMMARY:Generative AI in inspection and maintenance (I&M): Learnings acros
 s sectors\, low-hanging industry use cases\, and future challenges and op
 portunities
UID:d8f4e180-3a46-4e3d-b31f-5d654ec730b6
END:VEVENT
END:VCALENDAR
