BEGIN:VCALENDAR
METHOD:PUBLISH
PRODID:https://www.sintef.no
VERSION:2.0
BEGIN:VEVENT
DESCRIPTION:The 3rd Conference on Digitalisation for Sustainable Process I
 ndustries will be held 23 May in Trondheim at Scandic Lerkendal.
DTEND:20240523T163000
DTSTAMP:20260426T013057Z
DTSTART:20240523T083000
LOCATION:Scandic Lerkendal\, Klæbuveien 127 A\, 7031 Trondheim\, Norway
SEQUENCE:0
SUMMARY:DigiPro Conference 2024
UID:602741d9-483f-4229-9c91-852bc1cba58d
END:VEVENT
END:VCALENDAR
