BEGIN:VCALENDAR
METHOD:PUBLISH
PRODID:https://www.sintef.no
VERSION:2.0
BEGIN:VEVENT
DESCRIPTION:It takes a village to scale CCS\, with a range of actors both 
 along the physical value chain and in the wider ecosystem required to del
 iver.
DTEND:20241116T104500
DTSTAMP:20260422T154923Z
DTSTART:20241116T100000
LOCATION:COP29 - Nordic Pavilion\, blue Zone
SEQUENCE:0
SUMMARY:COP29: It takes a village to accelerate CCS!
UID:233c9016-8ce0-4c1b-8f70-96ed1d16c55a
END:VEVENT
END:VCALENDAR
