BEGIN:VCALENDAR
METHOD:PUBLISH
PRODID:https://www.sintef.no
VERSION:2.0
BEGIN:VEVENT
DESCRIPTION:Registration deadline: 18.04.2023\n\nSINTEF and their partners
  in the RegioHyt consortium are arranging a workshop on hydrogen and zero
 -emission trains\, and hereby invite stakeholders in the industry and oth
 er interested parties to participate.
DTEND:20230425T160000
DTSTAMP:20260424T173856Z
DTSTART:20230425T090000
LOCATION:Thon Hotel Arena\, Lillestrøm\, Nesgata 1\, 2004 Lillestrøm
SEQUENCE:0
SUMMARY:Workshop on hydrogen and zero-emission trains
UID:1c816f2c-173e-49a0-860d-f848f6112102
END:VEVENT
END:VCALENDAR
