BEGIN:VCALENDAR
METHOD:PUBLISH
PRODID:https://www.sintef.no
VERSION:2.0
BEGIN:VEVENT
DESCRIPTION:The webinar is based on the HighEFF NEIC project SOCTES. Therm
 al storage is a key ingredient in the making of a sustainable society wit
 h increased energy efficiency and implementation of renewables. Knowing t
 he state of charge of the storage is essential for efficient and flexible
  utilization of such devices.
DTEND:20230329T123000
DTSTAMP:20260423T000327Z
DTSTART:20230329T113000
LOCATION:Webinar
SEQUENCE:0
SUMMARY:Webinar: State of Charge of PCM-based thermal batteries
UID:f618f096-c601-4cb8-9a7e-9025421eea44
END:VEVENT
END:VCALENDAR
