BEGIN:VCALENDAR
METHOD:PUBLISH
PRODID:https://www.sintef.no
VERSION:2.0
BEGIN:VEVENT
DESCRIPTION:In this webinar\, Christian Schlemminger presents the main res
 ults from development and operation of a high temperature heat pump for l
 ow grade waste heat utilisation and upgrade of HighEFF Spin-off SkaleUP.
DTEND:20230215T123000
DTSTAMP:20260423T000316Z
DTSTART:20230215T113000
LOCATION:Webinar
SEQUENCE:0
SUMMARY:Webinar: SkaleUP - Industrial HTHP for simultaneous cooling and he
 ating
UID:40950722-97b6-4a68-9351-6ec7ce7a1c6c
END:VEVENT
END:VCALENDAR
