BEGIN:VCALENDAR
METHOD:PUBLISH
PRODID:https://www.sintef.no
VERSION:2.0
BEGIN:VEVENT
DESCRIPTION:In this webinar\, Tuva Grytli will talk about the fast-changin
 g world of European regulations relevant to ferromanganese production\, a
 s outlined in a coming HighEFF report.
DTEND:20230524T123000
DTSTAMP:20260423T000645Z
DTSTART:20230524T113000
LOCATION:Webinar
SEQUENCE:0
SUMMARY:Webinar: Regulatory implications for uses of CO‐rich off‐gas from 
 ferromanganese production
UID:51de9fda-ad4c-497f-8c28-ec4f32881928
END:VEVENT
END:VCALENDAR
