BEGIN:VCALENDAR
METHOD:PUBLISH
PRODID:https://www.sintef.no
VERSION:2.0
BEGIN:VEVENT
DESCRIPTION:Julia Jimenez Romeiro will present her work as a HighEFF PhD s
 tudent. Industrial energy transition: Optimization-based framework for su
 stainable design of utility systems
DTEND:20231101T123000
DTSTAMP:20260423T235910Z
DTSTART:20231101T113000
LOCATION:Teams
SEQUENCE:0
SUMMARY:Webinar: Industrial energy transition
UID:a2c25ba6-055a-4489-b672-1e998f28eec8
END:VEVENT
END:VCALENDAR
