BEGIN:VCALENDAR
METHOD:PUBLISH
PRODID:https://www.sintef.no
VERSION:2.0
BEGIN:VEVENT
DESCRIPTION:Why doesn't geothermal energy get more attention in the debate
  about future green energy sources?
DTEND:20230621T123000
DTSTAMP:20260421T102356Z
DTSTART:20230621T113000
LOCATION:Webinar
SEQUENCE:0
SUMMARY:Webinar: Geothermal power production in Norway?
UID:c84fff0c-1218-4c31-a7e6-8bcd9d2d94c6
END:VEVENT
END:VCALENDAR
