BEGIN:VCALENDAR
METHOD:PUBLISH
PRODID:https://www.sintef.no
VERSION:2.0
BEGIN:VEVENT
DESCRIPTION:In this webinar\, Petter Røkke will present the FME initiative
  cEFF that was recently submitted\, and answer any questions you might ha
 ve regarding the continuation of HighEFF and the cEFF initiative.
DTEND:20231129T120000
DTSTAMP:20260423T000425Z
DTSTART:20231129T110000
LOCATION:Teams
SEQUENCE:0
SUMMARY:Webinar: FME cEFF - Norwegian research Centre for industrial energ
 y EFFiciency
UID:aa7c6224-4d6c-4dd5-a7ba-ef1afe2f7b70
END:VEVENT
END:VCALENDAR
