BEGIN:VCALENDAR
METHOD:PUBLISH
PRODID:https://www.sintef.no
VERSION:2.0
BEGIN:VEVENT
DESCRIPTION:The session will present how Hydro intend to decarbonize prima
 ry aluminium production. The HalZero concept will be presented as part of
  the pathway towards production of aluminium with zero CO2-emissions.
DTEND:20231213T123000
DTSTAMP:20260423T235952Z
DTSTART:20231213T113000
LOCATION:Teams
SEQUENCE:0
SUMMARY:Webinar: Espen Wefring\, Hydro - Nothing is possible
UID:6b004269-3a42-4ae9-9427-11cb25cbc7c1
END:VEVENT
END:VCALENDAR
