BEGIN:VCALENDAR
METHOD:PUBLISH
PRODID:https://www.sintef.no
VERSION:2.0
BEGIN:VEVENT
DESCRIPTION:Dairy processing is energy intensive and require both heating 
 and cooling – perfect for integrated heat pumps!
DTEND:20230906T123000
DTSTAMP:20260423T000152Z
DTSTART:20230906T113000
LOCATION:Webinar
SEQUENCE:0
SUMMARY:Energy efficiency in the dairy industry: Rørosmeieriet
UID:5b536366-46e8-45fc-9152-295c514d6974
END:VEVENT
END:VCALENDAR
