BEGIN:VCALENDAR
METHOD:PUBLISH
PRODID:https://www.sintef.no
VERSION:2.0
BEGIN:VEVENT
DESCRIPTION:We kick off the HighEFF webinar series this fall with a talk f
 rom former HighEFF PhD student Knut Emil Ringstad
DTEND:20230823T123000
DTSTAMP:20260423T235910Z
DTSTART:20230823T113000
LOCATION:Webinar
SEQUENCE:0
SUMMARY:Webinar: CFD-model based design for improved components in CO2 ref
 rigeration systems
UID:934c7991-e229-4411-b3ee-19d46f025200
END:VEVENT
END:VCALENDAR
