BEGIN:VCALENDAR
METHOD:PUBLISH
PRODID:https://www.sintef.no
VERSION:2.0
BEGIN:VEVENT
DESCRIPTION:For 12 years the pilot plant at Tiller has been carrying out e
 ssential research and development on CO2 capture\, as part of achieving t
 he green shift. These days the plant has carried out 100\,000 hours of ca
 pture R&D
DTEND:20230622T170000
DTSTAMP:20260421T090030Z
DTSTART:20230622T150000
LOCATION:Tiller CO2 lab\, Trondheim\, Tillerbruvegen 200\, 7092 Trondheim
SEQUENCE:0
SUMMARY:Tiller CO2 capture pilot plant – 100 000 hours
UID:9bad74b4-93d2-4c52-9c1a-2d9ccdbed512
END:VEVENT
END:VCALENDAR
