BEGIN:VCALENDAR
METHOD:PUBLISH
PRODID:https://www.sintef.no
VERSION:2.0
BEGIN:VEVENT
DESCRIPTION:On 25 May\, HYDROGENi will have its first annual spring techni
 cal meeting. Attendance is by invitation only.
DTEND:20230525T153000
DTSTAMP:20260421T084318Z
DTSTART:20230525T090000
LOCATION:The Norwegian Museum of Science and Technology\, Oslo\, Kjelsåsve
 ien 143 0491 Oslo
SEQUENCE:0
SUMMARY:HYDROGENi Spring Technical Meeting
UID:7fc6254a-0e89-43a0-8845-9eeccbc9c8ff
END:VEVENT
END:VCALENDAR
