BEGIN:VCALENDAR
METHOD:PUBLISH
PRODID:https://www.sintef.no
VERSION:2.0
BEGIN:VEVENT
DESCRIPTION:Bjørn Saugestad\, Plant Manager at Elkem Thamshavn\, will give
  the webinar "Bruk av overskuddsvarme inn i det grønne skiftet." The webi
 nar will be in Norwegian.
DTEND:20230201T123000
DTSTAMP:20260423T000419Z
DTSTART:20230301T113000
LOCATION:Webinar
SEQUENCE:0
SUMMARY:HighEFF Webinar: Bruk av overskuddsvarme inn i det grønne skiftet
UID:0a084ad9-e6f6-4d49-88cc-d7af5d006391
END:VEVENT
END:VCALENDAR
