BEGIN:VCALENDAR
METHOD:PUBLISH
PRODID:https://www.sintef.no
VERSION:2.0
BEGIN:VEVENT
DESCRIPTION:Registration deadline: 24.05.2023\n\nSustainability and the gr
 een shift catalyzed by smart digital solutions are crucial for today's pr
 ocess industry to achieve climate neutrality.
DTEND:20230525T161500
DTSTAMP:20260426T220817Z
DTSTART:20230525T083000
LOCATION:Universitetet i Sørøst-Norge\, Kjølnes Ring 40\, 3918 Porsgrunn\,
  Norway
SEQUENCE:0
SUMMARY:2nd Conference on Digitalisation for Sustainable Process Industries
UID:b4f70726-971e-4be2-9b70-c16045390f0a
END:VEVENT
END:VCALENDAR
