BEGIN:VCALENDAR
METHOD:PUBLISH
PRODID:https://www.sintef.no
VERSION:2.0
BEGIN:VEVENT
DESCRIPTION:We face an enormous challenge to transform the energy system t
 o meet climate change targets.
DTEND:20221115T130000
DTSTAMP:20260419T205124Z
DTSTART:20221115T120000
LOCATION:Bellona foundation\, Blue Zone\, Delegation pavilions 4\, P82\, S
 harm El Sheikh International Convention Centre (SHICC)\, El Salam Road\, 
 in Sharm El Sheikh\, Egypt
SEQUENCE:0
SUMMARY:COP27 Event: Why modelling and data sharing is crucial in the glob
 al energy transition [Video]
UID:c46ece58-0d7c-4b12-a39b-b97475dd61e4
END:VEVENT
END:VCALENDAR
