BEGIN:VCALENDAR
METHOD:PUBLISH
PRODID:https://www.sintef.no
VERSION:2.0
BEGIN:VEVENT
DESCRIPTION:Launch of the European Energy Research Alliance Joint Programm
 e for Energy Efficiency in Industrial Processes white paper on “Industria
 l Thermal Energy Storage – Supporting the transition to decarbonise indus
 try”.
DTEND:20221213T153000
DTSTAMP:20260420T160247Z
DTSTART:20221213T140000
LOCATION:Online
SEQUENCE:0
SUMMARY:White paper launch: Industrial Thermal Energy Storage
UID:755c6571-76c5-4ec9-aa4e-2cb599bbf01d
END:VEVENT
END:VCALENDAR
