BEGIN:VCALENDAR
METHOD:PUBLISH
PRODID:https://www.sintef.no
VERSION:2.0
BEGIN:VEVENT
DESCRIPTION:A group of research experts on Thermal Energy Storage (TES) wa
 s assembled by the Energy Efficiency section of EERA (European Energy Res
 earch Alliance) to write a White Paper focusing on how Thermal Energy Sto
 rage can support the transition to decarbonise industry.
DTEND:20221102T123000
DTSTAMP:20260423T000645Z
DTSTART:20221102T113000
LOCATION:Webinar
SEQUENCE:0
SUMMARY:Webinar: New White Paper release: Industrial Thermal Energy Storag
 e - Supporting the transition to decarbonise industry
UID:97ea9f8a-cec1-4e3d-a9e1-f45847ddc654
END:VEVENT
END:VCALENDAR
