BEGIN:VCALENDAR
METHOD:PUBLISH
PRODID:https://www.sintef.no
VERSION:2.0
BEGIN:VEVENT
DESCRIPTION:A key challenge in university-industry collaborations is the p
 artners’ multiple and potentially conflicting goals. This multiplicity of
  goals can in worst case hamper the collaboration\, because the establish
 ment of goals often determines which actions are undertaken. Firms and un
 iversity partners may disagree on the course of actions to achieve these 
 various goals. Therefore\, the collaborative partners need to find a way 
 to manage these different and potentially conflicting goals. This present
 ation will focus on how multiple goals in research centers can be managed
  to ensure attainment of mutually beneficial outcomes for the partners in
 volved\, at various levels of the collaboration. The presentation is base
 d on qualitative interviews with firm and university partners in FME cent
 ers\, including FME HighEFF.
DTEND:20220316T123000
DTSTAMP:20260423T000035Z
DTSTART:20220316T113000
LOCATION:Webinar
SEQUENCE:0
SUMMARY:Webinar: Managing multiple goals in university-industry collaborat
 ion
UID:2c2cad7c-1838-4ed5-8f3b-cca057b96a2b
END:VEVENT
END:VCALENDAR
