BEGIN:VCALENDAR
METHOD:PUBLISH
PRODID:https://www.sintef.no
VERSION:2.0
BEGIN:VEVENT
DESCRIPTION:The "ordinary" webinar the coming week will be cancelled\, but
  as a replacement we would like to recommend the web based launch event f
 or the White paper "Industrial Thermal Energy Storage – Supporting the tr
 ansition to decarbonise industry". This is arranged by the European Energ
 y Research Alliance (EERA) and their Joint Programme Energy Efficiency in
  Industrial Processes (JP EEIP).
DTEND:20221213T153000
DTSTAMP:20260423T000152Z
DTSTART:20221213T140000
LOCATION:Webinar
SEQUENCE:0
SUMMARY:Webinar: Launch event for white paper on Thermal Energy Storage
UID:5b54d3bb-6cce-4179-a253-1a14a654b5a7
END:VEVENT
END:VCALENDAR
