BEGIN:VCALENDAR
METHOD:PUBLISH
PRODID:https://www.sintef.no
VERSION:2.0
BEGIN:VEVENT
DESCRIPTION:A magic potion for deep decarbonisation?
DTEND:20221115T103000
DTSTAMP:20260420T041709Z
DTSTART:20221115T093000
LOCATION:Nordic pavillion\, Blue Zone\, Delegation pavilions 4\, P90\, Sha
 rm El Sheikh International Convention Centre (SHICC)\, El Salam Road\, in
  Sharm El Sheikh\, Egypt
SEQUENCE:0
SUMMARY:COP27/Nordic Energy Research: The many colours of hydrogen [Video]
UID:55820b0d-04df-487e-baad-2a7124b057df
END:VEVENT
END:VCALENDAR
