BEGIN:VCALENDAR
METHOD:PUBLISH
PRODID:https://www.sintef.no
VERSION:2.0
BEGIN:VEVENT
DESCRIPTION:This event will showcase opportunities for turning waste into 
 valuable resources\, fueling the new bioeconomy.
DTEND:20221115T143000
DTSTAMP:20260424T145828Z
DTSTART:20221115T133000
LOCATION:Bellona foundation\, Blue Zone\, Delegation pavilions 4\, P82\, S
 harm El Sheikh International Convention Centre (SHICC)\, El Salam Road\, 
 in Sharm El Sheikh\, Egypt
SEQUENCE:0
SUMMARY:COP27/Bellona Event: Sludge as resource: How linear bureaucracy pr
 events circularity
UID:3c9821fa-8595-4c85-9650-c3fc0ef91c4e
END:VEVENT
END:VCALENDAR
