BEGIN:VCALENDAR
METHOD:PUBLISH
PRODID:https://www.sintef.no
VERSION:2.0
BEGIN:VEVENT
DESCRIPTION:A webinar on the possibilities and opportunities offered by th
 e unique ECCSEL X-ray RI facility for insight into porous media and mecha
 nics of rocks.
DTEND:20221004T140000
DTSTAMP:20260421T102256Z
DTSTART:20221004T133000
LOCATION:Webinar
SEQUENCE:0
SUMMARY:SINTEF Pore Imaging Laboratory
UID:41f8ee82-dae1-4d1e-ad5c-619f61943ed4
END:VEVENT
END:VCALENDAR
