BEGIN:VCALENDAR
METHOD:PUBLISH
PRODID:https://www.sintef.no
VERSION:2.0
BEGIN:VEVENT
DESCRIPTION:PYROCO2 Public Launch Event -  Sustainable value creation from
  industrial CO2
DTEND:20220921T170000
DTSTAMP:20260421T200359Z
DTSTART:20220921T100000
LOCATION:Ælvespeilet\, Porsgrunn\, Norway\, Storgata 164\, 3915 Porsgrunn
SEQUENCE:0
SUMMARY:Horizon 2020 Green Deal project PYROCO2
UID:15e69a70-4854-42b5-9bce-81c7afdb6a96
END:VEVENT
END:VCALENDAR
