BEGIN:VCALENDAR
METHOD:PUBLISH
PRODID:https://www.sintef.no
VERSION:2.0
BEGIN:VEVENT
DESCRIPTION:Organized by the research project "HVDC Inertia Provision" sup
 ported by the Research Council of Norway and involving project partners S
 INTEF Energy Research\, KU Leuven\, CentraleLille\, NTNU\, Statnett\, Equ
 inor\, Elia and RTE.
DTEND:20220428T140000
DTSTAMP:20260425T201156Z
DTSTART:20220428T090000
LOCATION:Webinar
SEQUENCE:0
SUMMARY:Open workshop on Virtual Inertia from HVDC Converters in future po
 wer systems
UID:fb9c179e-2f3e-4c14-8664-60cd7f8e1220
END:VEVENT
END:VCALENDAR
