BEGIN:VCALENDAR
METHOD:PUBLISH
PRODID:https://www.sintef.no
VERSION:2.0
BEGIN:VEVENT
DESCRIPTION:Plugged and abandoned (legacy) wells are an identified challen
 ge for large-scale CO2 storage on the Norwegian continental shelf.
DTEND:20221011T140000
DTSTAMP:20260421T102707Z
DTSTART:20221011T133000
LOCATION:Webinar
SEQUENCE:0
SUMMARY:Non invasive well integrity monitoring - Findings from the TOPHOLE
  project
UID:1c94b742-e0ba-4620-a92e-37178e3e020c
END:VEVENT
END:VCALENDAR
