BEGIN:VCALENDAR
METHOD:PUBLISH
PRODID:https://www.sintef.no
VERSION:2.0
BEGIN:VEVENT
DESCRIPTION:The world's largest project for autonomous transportation\, MO
 DI\, will be presented by some of the project's main contributors.
DTEND:20221116T154000
DTSTAMP:20260420T040203Z
DTSTART:20221116T150000
LOCATION:Sweden Pavillion\, Blue Zone\, Delegation pavilions\, Sharm El Sh
 eikh International Convention Centre (SHICC)\, El Salam Road\, in Sharm E
 l Sheikh\, Egypt
SEQUENCE:0
SUMMARY:COP27/Einride event: MODI - A leap toward autonomous transportatio
 n [Video]
UID:8b74beb7-5c58-4f17-ab4f-7ed967c68fac
END:VEVENT
END:VCALENDAR
