BEGIN:VCALENDAR
METHOD:PUBLISH
PRODID:https://www.sintef.no
VERSION:2.0
BEGIN:VEVENT
DESCRIPTION:There are several technologies which are investigated with the
  purpose of improving chemical stability of solvents for CO2 capture.
DTEND:20221101T140000
DTSTAMP:20260421T084949Z
DTSTART:20221101T133000
LOCATION:Webinar
SEQUENCE:0
SUMMARY:Is it possible to improve chemical stability of solvents for CO2 c
 apture?
UID:26c9f6cf-29a0-4345-adb9-28d92f86dfc5
END:VEVENT
END:VCALENDAR
