BEGIN:VCALENDAR
METHOD:PUBLISH
PRODID:https://www.sintef.no
VERSION:2.0
BEGIN:VEVENT
DESCRIPTION:We present an integrated characterization of the faulted capro
 ck (Agardhfjellet Formation) outcrops.
DTEND:20221006T140000
DTSTAMP:20260421T102733Z
DTSTART:20221006T133000
LOCATION:Webinar
SEQUENCE:0
SUMMARY:Integrated characterization of the faulted caprock shales of the L
 ongyearbyen CO2 Lab
UID:4674b95f-2faf-4821-8e45-1a0193ba07a4
END:VEVENT
END:VCALENDAR
