BEGIN:VCALENDAR
METHOD:PUBLISH
PRODID:https://www.sintef.no
VERSION:2.0
BEGIN:VEVENT
DESCRIPTION:The cost of capture is a key barrier for widespread deployment
  of CCS. Hybrid concepts combine more than one CO2 capture technology\, n
 ormally two\, in an arrangement that leads to improved capture performanc
 e.
DTEND:20221020T140000
DTSTAMP:20260421T085014Z
DTSTART:20221020T133000
LOCATION:Webinar
SEQUENCE:0
SUMMARY:Hybrid concept sorbent (VSA) – membrane for post-combustion CO2 ca
 pture from Industrial Flue Gases
UID:e53a5f6b-0745-444f-a363-c177f4452343
END:VEVENT
END:VCALENDAR
