BEGIN:VCALENDAR
METHOD:PUBLISH
PRODID:https://www.sintef.no
VERSION:2.0
BEGIN:VEVENT
DESCRIPTION:How Australia is tackling the crisis within the crisis: pumped
  storage lessons for the rest of the world
DTEND:20221114T153000
DTSTAMP:20260419T192433Z
DTSTART:20221114T143000
LOCATION:FFI PAVILION\, BLUE ZONE AT COP27\, Sharm El Sheikh International
  Convention Centre (SHICC)\, El Salam Road\, in Sharm El Sheikh\, Egypt
SEQUENCE:0
SUMMARY:COP27/IHA event: How Australia is tackling the crisis within the c
 risis
UID:76001772-f51d-4d02-bdab-2680a1557b28
END:VEVENT
END:VCALENDAR
