BEGIN:VCALENDAR
METHOD:PUBLISH
PRODID:https://www.sintef.no
VERSION:2.0
BEGIN:VEVENT
DESCRIPTION:We hereby invite you to the HighEFF WP3.1 and WP4.2 workshop "
  Competitive surplus heat recovery – how to get from knowledge building t
 o practical and attractive demonstrators ".
DTEND:20221018T160000
DTSTAMP:20260421T084949Z
DTSTART:20221018T120000
LOCATION:Trondheim
SEQUENCE:0
SUMMARY:HighEFF Workshop – Competitive surplus heat recovery – How to get 
 from knowledge building to practical and attractive demonstrators
UID:1606b329-5db9-473a-a6b4-497438f903cf
END:VEVENT
END:VCALENDAR
