BEGIN:VCALENDAR
METHOD:PUBLISH
PRODID:https://www.sintef.no
VERSION:2.0
BEGIN:VEVENT
DESCRIPTION:FME HighEFF would like welcome everyone interested to a one-da
 y seminar on industrial energy efficiency.
DTEND:20220518T170000
DTSTAMP:20260421T102559Z
DTSTART:20220518T100000
LOCATION:Kjelhuset\, Gløshaugen\, Kolbjørn Hejes vei 1E\, 7034 Trondheim
SEQUENCE:0
SUMMARY:HighEFF Making Norwegian industry the world's greenest
UID:5f81df38-d4cf-4e44-a1e8-4f716f3fa3ff
END:VEVENT
END:VCALENDAR
