BEGIN:VCALENDAR
METHOD:PUBLISH
PRODID:https://www.sintef.no
VERSION:2.0
BEGIN:VEVENT
DESCRIPTION:We are pleased to invite all consortium members to HighEFF Cro
 ss-Sector Workshop 19-20 October.
DTEND:20221020T130000
DTSTAMP:20260421T091942Z
DTSTART:20221019T090000
LOCATION:Thon Hotel Prinsen\, Kongens gate 30\, 7012 Trondheim
SEQUENCE:0
SUMMARY:HighEFF Cross-Sector Workshop 2022
UID:d4f07bf1-bf5e-4627-b40d-399c4fc78c1c
END:VEVENT
END:VCALENDAR
